Workbook

Sheet DETALHAMENTO PROJETO
A1: TÍTULO DO PROJETO: | B1: dkldçsfjçlsdfjçl
A2: VALOR DO PROJETO (R$): | B2: 1000000
A3: VALOR DA AÇÃO TRANSVERSAL (R$): | B3: =IF(B2<='TABELA AÇÃO TRANSVERSÃO'!C5,'DETALHAMENTO PROJETO'!B2*'TABELA AÇÃO TRANSVERSÃO'!D5, IF('DETALHAMENTO PROJETO'!B2<='TABELA AÇÃO TRANSVERSÃO'!C6,'DETALHAMENTO PROJETO'!B2*'TABELA AÇÃO TRANSVERSÃO'!D6,'DETALHAMENTO PROJETO'!B2*'TABELA AÇÃO TRANSVERSÃO'!D7)) -> 50000
A4: VALOR DO PROJETO COM AÇÃO TRANSVERSAL (R$): | B4: =B2+B3 -> 1050000

Sheet DESPESAS
A1: AQUISIÇÃO DE MATERIAIS PERMANENTES
A2: # | B2: DETALHAMENTO DA DESPESA | C2: JUSTIFICATIVA PARA DESPESA | D2: % REFERENTE AO VALOR TOTAL DA DESPESA (Campo calculado. Não preencher) | E2: UNIDADE | F2: QTD. | G2: CUSTO UNITÁRIO | H2: CUSTO TOTAL (Campo calculado. Não preencher)
A3: 1 | B3: dfsdfsdf | C3: dfsdfdsfsd | D3: =H3/$H$8 -> 0.047658385 | E3: UNIDADE | F3: 5 | G3: 1500 | H3: =F3*G3 -> 7500
A4: 2 | B4: gffgdgfdgfd | C4: A | D4: =H4/$H$8 -> 0.15886128 | E4: UNIDADE | F4: 10 | G4: 2500 | H4: =F4*G4 -> 25000
A5: 3 | D5: =H5/$H$8 -> 0.47658385 | F5: 5 | G5: 15000 | H5: =F5*G5 -> 75000
A6: 4 | D6: =H6/$H$8 -> 0.15886128 | F6: 100 | G6: 250 | H6: =F6*G6 -> 25000
A7: ... | D7: =H7/$H$8 -> 0.1580352 | F7: 15 | G7: 1658 | H7: =F7*G7 -> 24870
A8: % REFERENTE AO VALOR DO PROJETO | D8: =H8/'DETALHAMENTO PROJETO'!$B$2 -> 0.15737 | E8: SUBTOTAL DA DESPESA (R$): | H8: =SUM(H3:H7) -> 157370
A9: (Descontado o valor da ação transversal)
A12: DESPESAS COM MATERIAL DE CONSUMO
A13: # | B13: DETALHAMENTO DA DESPESA | C13: JUSTIFICATIVA PARA DESPESA | D13: % REFERENTE AO VALOR TOTAL DA DESPESA (Campo calculado. Não preencher) | E13: UNIDADE | F13: QTD. | G13: CUSTO UNITÁRIO | H13: CUSTO TOTAL (Campo calculado. Não preencher)
A14: 1 | B14: dfsdfsdf | C14: dfsdfdsfsd | D14: =H14/$H$19 -> 0.066666667 | E14: UNIDADE | F14: 5 | G14: 500 | H14: =F14*G14 -> 2500
A15: 2 | B15: gffgdgfdgfd | C15: dfgdfgfdg | D15: =H15/$H$19 -> 0.93333333 | E15: UNIDADE | F15: 10 | G15: 3500 | H15: =F15*G15 -> 35000
A16: 3 | D16: =H16/$H$19 -> 0 | H16: =F16*G16 -> 0
A17: 4 | D17: =H17/$H$19 -> 0 | H17: =F17*G17 -> 0
A18: ... | D18: =H18/$H$19 -> 0 | H18: =F18*G18 -> 0
A19: % REFERENTE AO VALOR DO PROJETO | D19: =H19/'DETALHAMENTO PROJETO'!$B$2 -> 0.0375 | E19: SUBTOTAL DA DESPESA (R$): | H19: =SUM(H14:H18) -> 37500
A20: (Descontado o valor da ação transversal)
A23: DESPESAS COM PASSAGENS E DIÁRIAS
A24: # | B24: DETALHAMENTO DA DESPESA | C24: JUSTIFICATIVA PARA DESPESA | D24: % REFERENTE AO VALOR TOTAL DA DESPESA (Campo calculado. Não preencher) | E24: UNIDADE | F24: QTD. | G24: CUSTO UNITÁRIO | H24: CUSTO TOTAL (Campo calculado. Não preencher)
A25: 1 | B25: PASSAGEM VIX-POA | C25: CONGRESSO | D25: =H25/$H$30 -> 0.01409483 | E25: UNIDADE | F25: 5 | G25: 500 | H25: =F25*G25 -> 2500
A26: 2 | B26: gffgdgfdgfd | C26: dfgdfgfdg | D26: =H26/$H$30 -> 0.1409483 | E26: UNIDADE | F26: 10 | G26: 2500 | H26: =F26*G26 -> 25000
A27: 3 | D27: =H27/$H$30 -> 0.5637932 | F27: 5 | G27: 20000 | H27: =F27*G27 -> 100000
A28: 4 | D28: =H28/$H$30 -> 0.1409483 | F28: 100 | G28: 250 | H28: =F28*G28 -> 25000
A29: ... | D29: =H29/$H$30 -> 0.14021537 | F29: 15 | G29: 1658 | H29: =F29*G29 -> 24870
A30: % REFERENTE AO VALOR DO PROJETO | D30: =H30/'DETALHAMENTO PROJETO'!$B$2 -> 0.17737 | E30: SUBTOTAL DA DESPESA (R$): | H30: =SUM(H25:H29) -> 177370
A31: (Descontado o valor da ação transversal)
A34: DESPESAS COM SERVIÇOS DE TERCEIROS (Pessoa Física ou Jurídica)
A35: # | B35: DETALHAMENTO DA DESPESA | C35: JUSTIFICATIVA PARA DESPESA | D35: % REFERENTE AO VALOR TOTAL DA DESPESA (Campo calculado. Não preencher) | E35: UNIDADE | F35: QTD. | G35: CUSTO UNITÁRIO | H35: CUSTO TOTAL (Campo calculado. Não preencher)
A36: 1 | B36: dfsdfsdf | C36: dfsdfdsfsd | D36: =H36/$H$41 -> 0.036305345 | E36: UNIDADE | F36: 5 | G36: 2027 | H36: =F36*G36 -> 10135
A37: 2 | B37: gffgdgfdgfd | C37: dfgdfgfdg | D37: =H37/$H$41 -> 0.12537613 | E37: UNIDADE | F37: 10 | G37: 3500 | H37: =F37*G37 -> 35000
A38: 3 | D38: =H38/$H$41 -> 0.37881502 | F38: 5 | G38: 21150 | H38: =F38*G38 -> 105750
A39: 4 | D39: =H39/$H$41 -> 0.37616421 | F39: 100 | G39: 1050.1 | H39: =F39*G39 -> 105010
A40: ... | D40: =H40/$H$41 -> 0.083339304 | F40: 15 | G40: 1551 | H40: =F40*G40 -> 23265
A41: % REFERENTE AO VALOR DO PROJETO | D41: =H41/'DETALHAMENTO PROJETO'!$B$2 -> 0.27916 | E41: SUBTOTAL DA DESPESA (R$): | H41: =SUM(H36:H40) -> 279160
A42: (Descontado o valor da ação transversal)
A45: BOLSAS
A46: # | B46: DETALHAMENTO DA DESPESA | C46: JUSTIFICATIVA PARA DESPESA | D46: % REFERENTE AO VALOR TOTAL DA DESPESA (Campo calculado. Não preencher) | E46: QTD. BOLSAS | F46: MESES | G46: CUSTO UNITÁRIO | H46: CUSTO TOTAL (Campo calculado. Não preencher)
A47: 1 | B47: BPIG II | C47: É O CARA | D47: =H47/$H$52 -> 0.7848537 | E47: 2 | F47: 24 | G47: 5700 | H47: =E47*F47*G47 -> 273600
A48: 2 | B48: BPIG IV | C48: DDDF | D48: =H48/$H$52 -> 0.2151463 | E48: 2 | F48: 5 | G48: 7500 | H48: =E48*F48*G48 -> 75000
A49: 3 | D49: =H49/$H$52 -> 0 | H49: =E49*F49*G49 -> 0
A50: 4 | D50: =H50/$H$52 -> 0 | H50: =E50*F50*G50 -> 0
A51: ... | D51: =H51/$H$8 -> 0 | H51: =E51*F51*G51 -> 0
A52: % REFERENTE AO VALOR DO PROJETO | D52: =H52/'DETALHAMENTO PROJETO'!$B$2 -> 0.3486 | E52: SUBTOTAL DA DESPESA (R$): | H52: =SUM(H47:H51) -> 348600
A53: (Descontado o valor da ação transversal)
A58: Resumo do Desembolso Financeiro
A60: Nº | B60: Recursos Financeiros | C60: Valor Total | D60: % Referente ao Valor Total do Projeto
A61: 1 | B61: Aquisição de Materiais Permanentes | C61: =H8 -> 157370 | D61: =D8 -> 0.15737
A62: 2 | B62: Despesas com Material de Consumo | C62: =H19 -> 37500 | D62: =D19 -> 0.0375
A63: 3 | B63: Despesas com Passagens e Diárias | C63: =H30 -> 177370 | D63: =D30 -> 0.17737
A64: 4 | B64: Despesas com Serviços de Terceiros | C64: =H41 -> 279160 | D64: =D41 -> 0.27916
A65: 5 | B65: Bolsas | C65: =H52 -> 348600 | D65: =D52 -> 0.3486
A66: TOTAIS: | C66: =SUM(C61:C65) -> 1000000 | D66: =SUM(D61:D65) -> 1

Sheet TABELA AÇÃO TRANSVERSÃO
B3: Programa e Projetos
B4: Valor Total - R$ | D4: % Aplicado
B5: 50000 | C5: 2000000 | D5: 0.05
B6: 2000000 | C6: 5000000 | D6: 0.04
B7: 5000000 | D7: 0.03
